BEGIN:VCALENDAR
VERSION:2.0
PRODID:-//Capitol Arts Complex - ECPv6.15.20//NONSGML v1.0//EN
CALSCALE:GREGORIAN
METHOD:PUBLISH
X-ORIGINAL-URL:https://www.romecapitol.com
X-WR-CALDESC:Events for Capitol Arts Complex
REFRESH-INTERVAL;VALUE=DURATION:PT1H
X-Robots-Tag:noindex
X-PUBLISHED-TTL:PT1H
BEGIN:VTIMEZONE
TZID:America/New_York
BEGIN:DAYLIGHT
TZOFFSETFROM:-0500
TZOFFSETTO:-0400
TZNAME:EDT
DTSTART:20250309T070000
END:DAYLIGHT
BEGIN:STANDARD
TZOFFSETFROM:-0400
TZOFFSETTO:-0500
TZNAME:EST
DTSTART:20251102T060000
END:STANDARD
BEGIN:DAYLIGHT
TZOFFSETFROM:-0500
TZOFFSETTO:-0400
TZNAME:EDT
DTSTART:20260308T070000
END:DAYLIGHT
BEGIN:STANDARD
TZOFFSETFROM:-0400
TZOFFSETTO:-0500
TZNAME:EST
DTSTART:20261101T060000
END:STANDARD
BEGIN:DAYLIGHT
TZOFFSETFROM:-0500
TZOFFSETTO:-0400
TZNAME:EDT
DTSTART:20270314T070000
END:DAYLIGHT
BEGIN:STANDARD
TZOFFSETFROM:-0400
TZOFFSETTO:-0500
TZNAME:EST
DTSTART:20271107T060000
END:STANDARD
END:VTIMEZONE
BEGIN:VEVENT
DTSTART;TZID=America/New_York:20260411T143000
DTEND;TZID=America/New_York:20260411T220000
DTSTAMP:20260424T041908
CREATED:20260402T131740Z
LAST-MODIFIED:20260402T131740Z
UID:10002458-1775917800-1775944800@www.romecapitol.com
SUMMARY:Reap the Wild Wind
DESCRIPTION:REAP THE WILD WIND (Paramount\, 1942): Producer-director Cecil B. DeMille’s epic Technicolor spectacular starring Ray Milland\, John Wayne\, and Paulette Goddard. Set in the 19th Century\, the story revolves around a series of shipwrecks and a marine salvaging company that may be responsible for causing them. Raymond Massey is the villainous “King” Culter\, with others in the cast including Susan Hayward\, Charles Bickford\, Hedda Hopper\, and Louise Beavers. The movie won an Academy Award for Best Special Effects\, and is highlighted by an epic underwater battle with a giant squid to be screened at the historic Capitol Theatre! \nRating: Not Rated \nRuntime: 123 Minutes\nLanguage: English\nVenue: Capitol Theatre\nFormat: Digital Print \nPurchase tickets for 2:30 pm here. \nPurchase tickets for 7:00 pm here.
URL:https://www.romecapitol.com/event/reap-the-wild-wind/
LOCATION:Capitol Theatre\, 220 West Dominck Street\, Rome\, NY\, 13440\, United States
ATTACH;FMTTYPE=image/jpeg:https://www.romecapitol.com/wp-content/uploads/2026/04/MV5BNTg4NmVlYWMtNTZkMS00NzlmLWI1NDQtODE1YzU4MzdlNTc4XkEyXkFqcGc@._V1_.jpg
END:VEVENT
END:VCALENDAR