BEGIN:VCALENDAR
VERSION:2.0
PRODID:-//Capitol Arts Complex - ECPv6.15.20//NONSGML v1.0//EN
CALSCALE:GREGORIAN
METHOD:PUBLISH
X-WR-CALNAME:Capitol Arts Complex
X-ORIGINAL-URL:https://www.romecapitol.com
X-WR-CALDESC:Events for Capitol Arts Complex
REFRESH-INTERVAL;VALUE=DURATION:PT1H
X-Robots-Tag:noindex
X-PUBLISHED-TTL:PT1H
BEGIN:VTIMEZONE
TZID:America/New_York
BEGIN:DAYLIGHT
TZOFFSETFROM:-0500
TZOFFSETTO:-0400
TZNAME:EDT
DTSTART:20250309T070000
END:DAYLIGHT
BEGIN:STANDARD
TZOFFSETFROM:-0400
TZOFFSETTO:-0500
TZNAME:EST
DTSTART:20251102T060000
END:STANDARD
BEGIN:DAYLIGHT
TZOFFSETFROM:-0500
TZOFFSETTO:-0400
TZNAME:EDT
DTSTART:20260308T070000
END:DAYLIGHT
BEGIN:STANDARD
TZOFFSETFROM:-0400
TZOFFSETTO:-0500
TZNAME:EST
DTSTART:20261101T060000
END:STANDARD
BEGIN:DAYLIGHT
TZOFFSETFROM:-0500
TZOFFSETTO:-0400
TZNAME:EDT
DTSTART:20270314T070000
END:DAYLIGHT
BEGIN:STANDARD
TZOFFSETFROM:-0400
TZOFFSETTO:-0500
TZNAME:EST
DTSTART:20271107T060000
END:STANDARD
END:VTIMEZONE
BEGIN:VEVENT
DTSTART;TZID=America/New_York:20260423T160000
DTEND;TZID=America/New_York:20260423T210000
DTSTAMP:20260424T041733
CREATED:20260408T144419Z
LAST-MODIFIED:20260408T144419Z
UID:10002459-1776960000-1776978000@www.romecapitol.com
SUMMARY:KPOP WARRIORS
DESCRIPTION:A show full of music\, excitement\, and action to the rhythm of K-Pop\, the live experience that’s already a worldwide sensation! \nPurchase tickets here.
URL:https://www.romecapitol.com/event/kpop-warriors/
LOCATION:Capitol Theatre\, 220 West Dominck Street\, Rome\, NY\, 13440\, United States
CATEGORIES:Concerts and Live Events
ATTACH;FMTTYPE=image/webp:https://www.romecapitol.com/wp-content/uploads/2026/04/A-family-friendly-show-full-of-music-excitement-and-action-to-the-rhythm-of-K-Pop-1.webp
END:VEVENT
END:VCALENDAR